BEGIN:VCALENDAR
VERSION:2.0
PRODID:-//Department Of Education Central Province - ECPv6.8.3//NONSGML v1.0//EN
CALSCALE:GREGORIAN
METHOD:PUBLISH
X-WR-CALNAME:Department Of Education Central Province
X-ORIGINAL-URL:https://cpedu.lk
X-WR-CALDESC:Events for Department Of Education Central Province
REFRESH-INTERVAL;VALUE=DURATION:PT1H
X-Robots-Tag:noindex
X-PUBLISHED-TTL:PT1H
BEGIN:VTIMEZONE
TZID:UTC
BEGIN:STANDARD
TZOFFSETFROM:+0000
TZOFFSETTO:+0000
TZNAME:UTC
DTSTART:20230101T000000
END:STANDARD
END:VTIMEZONE
BEGIN:VEVENT
DTSTART;TZID=UTC:20240824T080000
DTEND;TZID=UTC:20240824T170000
DTSTAMP:20260420T024610
CREATED:20240824T015918Z
LAST-MODIFIED:20240824T015918Z
UID:3311-1724486400-1724518800@cpedu.lk
SUMMARY:Training of newly recruited graduate teachers
DESCRIPTION:Training of newly recruited graduate teachers of provincial schools in central province commences on 24th of August 2024. This is done in three centers in Gurudeniya\, Matale and Hatton.
URL:https://cpedu.lk/events/training-of-newly-recruited-graduate-teachers/
END:VEVENT
BEGIN:VEVENT
DTSTART;TZID=UTC:20240815T080000
DTEND;TZID=UTC:20240815T170000
DTSTAMP:20260420T024610
CREATED:20240815T132832Z
LAST-MODIFIED:20240815T132832Z
UID:3309-1723708800-1723741200@cpedu.lk
SUMMARY:Osbourne Tamil Vidyalaya-MLT Opening
DESCRIPTION:
URL:https://cpedu.lk/events/osbourne-tamil-vidyalaya-mlt-opening/
END:VEVENT
BEGIN:VEVENT
DTSTART;TZID=UTC:20240815T080000
DTEND;TZID=UTC:20240815T170000
DTSTAMP:20260420T024610
CREATED:20240815T071147Z
LAST-MODIFIED:20240815T071147Z
UID:3300-1723708800-1723741200@cpedu.lk
SUMMARY:Norwood S.M.V.MLT classroom opening
DESCRIPTION: 
URL:https://cpedu.lk/events/norwood-s-m-v-mlt-classroom-opening/
END:VEVENT
BEGIN:VEVENT
DTSTART;TZID=UTC:20240815T080000
DTEND;TZID=UTC:20240815T170000
DTSTAMP:20260420T024610
CREATED:20240815T031729Z
LAST-MODIFIED:20240815T132701Z
UID:3288-1723708800-1723741200@cpedu.lk
SUMMARY:Kottallena M.V.\,Hatton. Model classroom opening
DESCRIPTION:
URL:https://cpedu.lk/events/kottallena-m-v-hatton-model-classroom-opening/
END:VEVENT
BEGIN:VEVENT
DTSTART;TZID=UTC:20240814T080000
DTEND;TZID=UTC:20240814T170000
DTSTAMP:20260420T024610
CREATED:20240814T034851Z
LAST-MODIFIED:20240814T034851Z
UID:3283-1723622400-1723654800@cpedu.lk
SUMMARY:Online Hate Speech Awareness Programme at Highlands College\,Hatton-14/08/2024
DESCRIPTION:
URL:https://cpedu.lk/events/online-hate-speech-awareness-programme-at-highlands-collegehatton-14-08-2024/
END:VEVENT
BEGIN:VEVENT
DTSTART;TZID=UTC:20240713T080000
DTEND;TZID=UTC:20240717T170000
DTSTAMP:20260420T024610
CREATED:20240708T193248Z
LAST-MODIFIED:20240708T193348Z
UID:3183-1720857600-1721235600@cpedu.lk
SUMMARY:ජනාධිපති ශිෂ්‍යත්ව වැඩසටහන-මධ්‍යම පළාත
DESCRIPTION:දක්ෂතා සහිත ආර්ථික අපහසුතා පවතින සිසු සිසුවියන් දිරි ගැන්වීම  සදහා ශිෂ්‍යත්ව පිරි නැමීමේ ජනාධිපති තුමාගේ සංකල්පය යටතේ  මෙම වැඩසටහන ක්‍රියාත්මක වේ.  1 සිට 13 දක්වාශ්‍රේණිවල සිසු සිසුවියන් වෙත ශිෂ්‍යත්ව ප්‍රදානය සිදු කරන මධ්‍යම  පළාතේ එම වැඩසටහන් පහත පරිදි සංවිධානය කර ඇත. \n\nමාතලේ දිස්ත්‍රික්කය              2024/07/13\nනුවරඑළිය දිස්ත්‍රික්කය         2024/07/16\nමහනුවර දිස්ත්‍රික්කය            2024/07/17
URL:https://cpedu.lk/events/%e0%b6%a2%e0%b6%b1%e0%b7%8f%e0%b6%b0%e0%b7%92%e0%b6%b4%e0%b6%ad%e0%b7%92-%e0%b7%81%e0%b7%92%e0%b7%82%e0%b7%8a%e0%b6%ba%e0%b6%ad%e0%b7%8a%e0%b7%80-%e0%b7%80%e0%b7%90%e0%b6%a9%e0%b7%83%e0%b6%a7/
END:VEVENT
BEGIN:VEVENT
DTSTART;TZID=UTC:20240711T080000
DTEND;TZID=UTC:20240711T170000
DTSTAMP:20260420T024610
CREATED:20240708T190500Z
LAST-MODIFIED:20240708T190824Z
UID:3178-1720684800-1720717200@cpedu.lk
SUMMARY:Monthly Progress Meeting with the Provincial Secretary of Education
DESCRIPTION:The Provincial Secretary of Education holds a  monthly progress meeting with the Provincial education officers and the zonal Directors of education. This enables providing solutions to issues in the system effectively.
URL:https://cpedu.lk/events/monthly-progress-meeting-with-the-provincial-secretary-of-education/
LOCATION:PROVINCIAL MOE\,PALLEKALLE\, PROVINCIAL MOE\, PALLEKALE\, CENTRAL PROVINCE
END:VEVENT
BEGIN:VEVENT
DTSTART;VALUE=DATE:20240709
DTEND;VALUE=DATE:20240710
DTSTAMP:20260420T024610
CREATED:20240710T201704Z
LAST-MODIFIED:20240710T201704Z
UID:3238-1720483200-1720569599@cpedu.lk
SUMMARY:SLEAS Interview Assistance
DESCRIPTION:The Provincial Department of Education \,Central Province in collaboration with the Zam Zam Foundation organized a workshop for selected teachers and principals(Sinhala medium) on how to face the SLEAS interview. It was open not only to Central province\, so participants from Western\, North Central and Sabaragamuwa participated. \nIt was held at the Green Community Experience Centre\, Elamaldeniya  on 9th July 2024. \n.    
URL:https://cpedu.lk/events/sleas-interview-assistance/
END:VEVENT
BEGIN:VEVENT
DTSTART;TZID=UTC:20240627T080000
DTEND;TZID=UTC:20240627T170000
DTSTAMP:20260420T024610
CREATED:20240627T144518Z
LAST-MODIFIED:20240627T144518Z
UID:3146-1719475200-1719507600@cpedu.lk
SUMMARY:Discussion -Inclusive Education
DESCRIPTION:The Provincial Department of Education\, Kandy had a discussion today with the representatives of Kindernothlife (KNH) and Leeds organization to promote Inclusive Education in Central Province.
URL:https://cpedu.lk/events/discussion-inclusive-education/
END:VEVENT
BEGIN:VEVENT
DTSTART;TZID=UTC:20240607T080000
DTEND;TZID=UTC:20240607T170000
DTSTAMP:20260420T024610
CREATED:20240607T042302Z
LAST-MODIFIED:20240607T042302Z
UID:3129-1717747200-1717779600@cpedu.lk
SUMMARY:Collaboration session regarding PCM between central province and  eastern province.7th and 8th June 2024.  At MDTU\, Trincomalee
DESCRIPTION:This program is implemented with the contribution of UNICEF.
URL:https://cpedu.lk/events/collaboration-session-regarding-pcm-between-central-province-and-eastern-province-7th-and-8th-june-2024-at-mdtu-trincomalee/
END:VEVENT
BEGIN:VEVENT
DTSTART;TZID=UTC:20240523T080000
DTEND;TZID=UTC:20240523T170000
DTSTAMP:20260420T024610
CREATED:20240529T040349Z
LAST-MODIFIED:20240529T040349Z
UID:3119-1716451200-1716483600@cpedu.lk
SUMMARY:A mental health programme conducted by the Department of Education of Central Province on 20.5.2024 at Kingswood College\, Kandy with the participation of 450 students from five schools.
DESCRIPTION:
URL:https://cpedu.lk/events/a-mental-health-programme-conducted-by-the-department-of-education-of-central-province-on-20-5-2024-at-kingswood-college-kandy-with-the-participation-of-450-students-from-five-schools/
END:VEVENT
BEGIN:VEVENT
DTSTART;TZID=UTC:20240520T080000
DTEND;TZID=UTC:20240520T170000
DTSTAMP:20260420T024610
CREATED:20240520T150210Z
LAST-MODIFIED:20240520T150210Z
UID:3114-1716192000-1716224400@cpedu.lk
SUMMARY:Kandy\, Katugastota Meeting
DESCRIPTION:
URL:https://cpedu.lk/events/kandy-katugastota-meeting/
END:VEVENT
BEGIN:VEVENT
DTSTART;TZID=UTC:20240520T080000
DTEND;TZID=UTC:20240520T170000
DTSTAMP:20260420T024610
CREATED:20240520T052048Z
LAST-MODIFIED:20240520T052048Z
UID:3104-1716192000-1716224400@cpedu.lk
SUMMARY:Meeting for gampola and denuwara. Zones
DESCRIPTION:
URL:https://cpedu.lk/events/meeting-for-gampola-and-denuwara-zones/
END:VEVENT
BEGIN:VEVENT
DTSTART;TZID=UTC:20240520T080000
DTEND;TZID=UTC:20240520T170000
DTSTAMP:20260420T024610
CREATED:20240520T042227Z
LAST-MODIFIED:20240520T042227Z
UID:3102-1716192000-1716224400@cpedu.lk
SUMMARY:Kandy district meeting -Wattegama & Teldeniya zones
DESCRIPTION:
URL:https://cpedu.lk/events/kandy-district-meeting-wattegama-teldeniya-zones/
END:VEVENT
BEGIN:VEVENT
DTSTART;TZID=UTC:20240319T080000
DTEND;TZID=UTC:20240319T160000
DTSTAMP:20260420T024610
CREATED:20240315T043337Z
LAST-MODIFIED:20240315T074221Z
UID:2929-1710835200-1710864000@cpedu.lk
SUMMARY:Progress meeting on 19.03.2024
DESCRIPTION:Progress meeting with Zonal and Provincial officers of Education at the Provincial Ministry Of Education\, Pallekale
URL:https://cpedu.lk/events/progress-meeting-on-19-03-2024/
LOCATION:PROVINCIAL MOE\,PALLEKALLE\, PROVINCIAL MOE\, PALLEKALE\, CENTRAL PROVINCE
END:VEVENT
BEGIN:VEVENT
DTSTART;TZID=UTC:20240315T123000
DTEND;TZID=UTC:20240315T170000
DTSTAMP:20260420T024610
CREATED:20240317T170811Z
LAST-MODIFIED:20240317T171028Z
UID:2949-1710505800-1710522000@cpedu.lk
SUMMARY:UNICEF progress meeting  at the Provincial Department of Education\, Kandy
DESCRIPTION:Colors Awarding Ceremony -2023 will be held at Polgolla to felicitate students\, teachers and all who were behind the success at Sports arena.
URL:https://cpedu.lk/events/unicef-progress-meeting-at-the-provincial-department-of-education-kandy/
LOCATION:POLGOLLA\, POLGOLLA
END:VEVENT
BEGIN:VEVENT
DTSTART;TZID=UTC:20240315T123000
DTEND;TZID=UTC:20240315T170000
DTSTAMP:20260420T024610
CREATED:20240315T040616Z
LAST-MODIFIED:20240319T021637Z
UID:2922-1710505800-1710522000@cpedu.lk
SUMMARY:Colours Awarding Ceremony -2023
DESCRIPTION: held at Polgolla to felicitate students\, teachers and all who were behind the success at Sports arena
URL:https://cpedu.lk/events/colours-awarding-ceremony-2023-will-be-held-at-polgolla-to-felicitate-studentsteachers-and-all-who-were-behind-the-success-at-sports-arena/
LOCATION:POLGOLLA\, POLGOLLA
END:VEVENT
BEGIN:VEVENT
DTSTART;TZID=UTC:20240314T080000
DTEND;TZID=UTC:20240314T170000
DTSTAMP:20260420T024610
CREATED:20240315T043040Z
LAST-MODIFIED:20240315T074741Z
UID:2927-1710403200-1710435600@cpedu.lk
SUMMARY:The following workshops will be at the CEDRAT\,Gurudeniya on 2024/03/14.
DESCRIPTION:Meeting with the A/L commerce and Arts stream directors\, ISAs\nWorkshop on improving literacy in grades 6 to 9\nWorkshop on Student Parliament\nEnglish Speaking pilot project\n\n 
URL:https://cpedu.lk/events/the-following-workshops-will-be-at-the-cedratgurudeniya-on-2024-03-14/
LOCATION:CEDRAT\, CEDRAT\, GURUDENIYA
END:VEVENT
BEGIN:VEVENT
DTSTART;TZID=UTC:20240312T080000
DTEND;TZID=UTC:20240312T170000
DTSTAMP:20260420T024610
CREATED:20240317T172041Z
LAST-MODIFIED:20240317T172041Z
UID:2954-1710230400-1710262800@cpedu.lk
SUMMARY:O/L results improvement programme-Denuwara Zone
DESCRIPTION:The Provincial Department of Education\, Zonal education Office\, Denuwara with the assistance from the Zam Zam foundation conducted a discussion at the Green Community Experience Centre\, Handessa with sixty principals and assistant principals from Denuwara Zone\, yesterday (2024/03/12)
URL:https://cpedu.lk/events/o-l-results-improvement-programme-denuwara-zone/
END:VEVENT
BEGIN:VEVENT
DTSTART;TZID=UTC:20240312T080000
DTEND;TZID=UTC:20240312T170000
DTSTAMP:20260420T024610
CREATED:20240317T171500Z
LAST-MODIFIED:20240317T171500Z
UID:2952-1710230400-1710262800@cpedu.lk
SUMMARY:Online Hate speech prevention program end evaluation by a foreign evaluator.
DESCRIPTION:A discussion was held on 2024/03/12 at the Provincial Department of Education\, Kandy with the Additional Provincial Director of Education (Development) Mr. A.L.M. Zarudeen and coordinator for OHSPP\, Deputy Director of Development\, Mrs. A.K.P.S. Kodithuwakku by the team of evaluators. \nToday the evaluation team will visit Ambagamuwa Central College and Highlands College in Hatton zone. They will conduct focus group discussions with students.
URL:https://cpedu.lk/events/online-hate-speech-prevention-program-end-evaluation-by-a-foreign-evaluator/
END:VEVENT
BEGIN:VEVENT
DTSTART;VALUE=DATE:20231219
DTEND;VALUE=DATE:20231220
DTSTAMP:20260420T024610
CREATED:20231119T173439Z
LAST-MODIFIED:20231210T065259Z
UID:1304-1702944000-1703030399@cpedu.lk
SUMMARY:December 19
DESCRIPTION:Meeting With school heads of A/L schools
URL:https://cpedu.lk/events/meeting-with-school-heads/
END:VEVENT
BEGIN:VEVENT
DTSTART;VALUE=DATE:20231212
DTEND;VALUE=DATE:20231214
DTSTAMP:20260420T024610
CREATED:20231112T173339Z
LAST-MODIFIED:20231210T065132Z
UID:1302-1702339200-1702511999@cpedu.lk
SUMMARY:December 12-13
DESCRIPTION:Program on Disciplinary procedures for executive officers
URL:https://cpedu.lk/events/program-on-disciplinary-2/
END:VEVENT
BEGIN:VEVENT
DTSTART;TZID=UTC:20231204T080000
DTEND;TZID=UTC:20231204T170000
DTSTAMP:20260420T024610
CREATED:20231128T173125Z
LAST-MODIFIED:20231128T173125Z
UID:1298-1701676800-1701709200@cpedu.lk
SUMMARY:MOE work shop
DESCRIPTION:MOE work shop with ICT coordinators
URL:https://cpedu.lk/events/moe-work-shop-2/
END:VEVENT
BEGIN:VEVENT
DTSTART;VALUE=DATE:20231201
DTEND;VALUE=DATE:20231202
DTSTAMP:20260420T024610
CREATED:20231201T080046Z
LAST-MODIFIED:20231210T055437Z
UID:1294-1701388800-1701475199@cpedu.lk
SUMMARY:Progress Meeting
DESCRIPTION:Monthly progress meeting with Provincial Secretary of Education
URL:https://cpedu.lk/events/progress-meeting/
END:VEVENT
END:VCALENDAR